BEGIN:VCALENDAR
VERSION:2.0
PRODID:-//empowercdc.org//NONSGML kigkonsult.se iCalcreator 2.30.10//
CALSCALE:GREGORIAN
METHOD:PUBLISH
UID:8c6528f5-2d4a-4bf3-b62e-1f7059c6b9e4
X-WR-CALDESC:FINANCIAL PLANNING\nCP- BANK OF TEXAS\n@11AM
X-WR-RELCALID:d1a2aaed1f6a622f9e81c57b907c16fe
X-WR-TIMEZONE:America/Chicago
BEGIN:VTIMEZONE
TZID:America/Chicago
BEGIN:STANDARD
TZNAME:CST
DTSTART:20241103T020000
TZOFFSETFROM:-0500
TZOFFSETTO:-0600
RDATE:20251102T020000
RDATE:20261101T020000
END:STANDARD
BEGIN:DAYLIGHT
TZNAME:CDT
DTSTART:20250309T020000
TZOFFSETFROM:-0600
TZOFFSETTO:-0500
RDATE:20260308T020000
RDATE:20270314T020000
END:DAYLIGHT
END:VTIMEZONE
BEGIN:VEVENT
UID:44f58a26-1ec1-4f5e-90f9-5d2b5aaa9e86
DTSTAMP:20260423T164519Z
DESCRIPTION:FINANCIAL PLANNING\nCP- BANK OF TEXAS\n@11AM
DTSTART;TZID=America/Chicago:20251023T110000
DTEND;TZID=America/Chicago:20251023T120000
LOCATION:15707 Kuykendahl Ct\, Conroe\, AL 77384 US
SUMMARY:Kuykendalh Court: Financial Planning
END:VEVENT
END:VCALENDAR
