BEGIN:VCALENDAR
VERSION:2.0
PRODID:-//empowercdc.org//NONSGML kigkonsult.se iCalcreator 2.30.10//
CALSCALE:GREGORIAN
METHOD:PUBLISH
UID:ea79cb8a-db68-4db3-87b0-402d58d2757c
X-WR-CALDESC:EXERCISE\nKIDS RECESS WORKOUT\n@3:30PM\n\n*Resident only event
 *
X-WR-RELCALID:74fb3e6a13863d27e4dc9a1790bfb991
X-WR-TIMEZONE:America/Chicago
BEGIN:VTIMEZONE
TZID:America/Chicago
BEGIN:STANDARD
TZNAME:CST
DTSTART:20241103T020000
TZOFFSETFROM:-0500
TZOFFSETTO:-0600
RDATE:20251102T020000
RDATE:20261101T020000
END:STANDARD
BEGIN:DAYLIGHT
TZNAME:CDT
DTSTART:20250309T020000
TZOFFSETFROM:-0600
TZOFFSETTO:-0500
RDATE:20260308T020000
RDATE:20270314T020000
END:DAYLIGHT
END:VTIMEZONE
BEGIN:VEVENT
UID:34c9da1f-0b46-4923-85f4-4846312919d9
DTSTAMP:20260423T161305Z
DESCRIPTION:EXERCISE\nKIDS RECESS WORKOUT\n@3:30PM\n\n*Resident only event*
DTSTART;TZID=America/Chicago:20251021T153000
DTEND;TZID=America/Chicago:20251021T163000
LOCATION:1620 Spencer Hwy\, South Houston\, TX 77587 US
SUMMARY:Windsor Gardens: Exercise
END:VEVENT
END:VCALENDAR
