BEGIN:VCALENDAR
VERSION:2.0
PRODID:-//empowercdc.org//NONSGML kigkonsult.se iCalcreator 2.30.10//
CALSCALE:GREGORIAN
METHOD:PUBLISH
UID:98296cb9-a90a-42bd-8673-e21ddbddb899
X-WR-CALDESC:EXERCISE\nCHAIR EXERCISE\n@10AM\n\nARTS & CRAFTS\nDIY HALLOWEE
 N DIAMOND\nPAINTING\n@11AM\n\n*Resident only event*
X-WR-RELCALID:c8d995369436df70955e2f54d785309c
X-WR-TIMEZONE:America/Chicago
BEGIN:VTIMEZONE
TZID:America/Chicago
BEGIN:STANDARD
TZNAME:CST
DTSTART:20241103T020000
TZOFFSETFROM:-0500
TZOFFSETTO:-0600
RDATE:20251102T020000
RDATE:20261101T020000
END:STANDARD
BEGIN:DAYLIGHT
TZNAME:CDT
DTSTART:20250309T020000
TZOFFSETFROM:-0600
TZOFFSETTO:-0500
RDATE:20260308T020000
RDATE:20270314T020000
END:DAYLIGHT
END:VTIMEZONE
BEGIN:VEVENT
UID:2c61793a-31a6-46b8-90a9-e376edc83160
DTSTAMP:20260423T162901Z
DESCRIPTION:EXERCISE\nCHAIR EXERCISE\n@10AM\n\nARTS & CRAFTS\nDIY HALLOWEEN
  DIAMOND\nPAINTING\n@11AM\n\n*Resident only event*
DTSTART;TZID=America/Chicago:20251021T100000
DTEND;TZID=America/Chicago:20251021T120000
LOCATION:1717 FM359\, Richmond\, TX 77406 US
SUMMARY:Jones Creek: Exercise\, Arts & Crafts
END:VEVENT
END:VCALENDAR
