BEGIN:VCALENDAR
VERSION:2.0
PRODID:-//empowercdc.org//NONSGML kigkonsult.se iCalcreator 2.30.10//
CALSCALE:GREGORIAN
METHOD:PUBLISH
UID:48c135ef-a7f3-4817-b149-9ea0c06d4399
X-WR-CALDESC:EXERCISE- Empower\nAdaptive Fitness\n@11:00AM\n\nTxSMP- Empowe
 r\nScam of the Month\n@12:00PM
X-WR-RELCALID:a9b84ab1f8dff8e69136aac218b6612d
X-WR-TIMEZONE:America/Chicago
BEGIN:VTIMEZONE
TZID:America/Chicago
BEGIN:STANDARD
TZNAME:CST
DTSTART:20241103T020000
TZOFFSETFROM:-0500
TZOFFSETTO:-0600
RDATE:20251102T020000
RDATE:20261101T020000
END:STANDARD
BEGIN:DAYLIGHT
TZNAME:CDT
DTSTART:20250309T020000
TZOFFSETFROM:-0600
TZOFFSETTO:-0500
RDATE:20260308T020000
RDATE:20270314T020000
END:DAYLIGHT
END:VTIMEZONE
BEGIN:VEVENT
UID:7a422d06-8b70-4cc0-ac2b-fecd8b9a62a6
DTSTAMP:20260423T163436Z
DESCRIPTION:EXERCISE- Empower\nAdaptive Fitness\n@11:00AM\n\nTxSMP- Empower
 \nScam of the Month\n@12:00PM
DTSTART;TZID=America/Chicago:20251021T110000
DTEND;TZID=America/Chicago:20251021T130000
LOCATION:1830 Hollyoak Dr\, Houston\, AL 77084 US
SUMMARY:Hollyoak: Exercise\, TxSMP
END:VEVENT
END:VCALENDAR
