BEGIN:VCALENDAR
VERSION:2.0
PRODID:-//empowercdc.org//NONSGML kigkonsult.se iCalcreator 2.30.10//
CALSCALE:GREGORIAN
METHOD:PUBLISH
UID:01670264-a08a-453e-b192-10b920b7bb1b
X-WR-CALDESC:ARTS & CRAFTS\nEmpower\nVelvet Poster Art\n@3:00 PM\n\n*Reside
 nt only event*
X-WR-RELCALID:d9c85aa63bc803441910f29f099f9bd7
X-WR-TIMEZONE:America/Chicago
BEGIN:VTIMEZONE
TZID:America/Chicago
BEGIN:STANDARD
TZNAME:CST
DTSTART:20241103T020000
TZOFFSETFROM:-0500
TZOFFSETTO:-0600
RDATE:20251102T020000
RDATE:20261101T020000
END:STANDARD
BEGIN:DAYLIGHT
TZNAME:CDT
DTSTART:20250309T020000
TZOFFSETFROM:-0600
TZOFFSETTO:-0500
RDATE:20260308T020000
RDATE:20270314T020000
END:DAYLIGHT
END:VTIMEZONE
BEGIN:VEVENT
UID:da1fc2bd-136a-49be-af7e-54b6b26acd1e
DTSTAMP:20260423T161421Z
DESCRIPTION:ARTS & CRAFTS\nEmpower\nVelvet Poster Art\n@3:00 PM\n\n*Residen
 t only event*
DTSTART;TZID=America/Chicago:20251021T150000
DTEND;TZID=America/Chicago:20251021T160000
LOCATION:6725 Brittmoore Road\, Houston\, TX 77041 US
SUMMARY:Brittmoore: Arts & Crafts
END:VEVENT
END:VCALENDAR
