BEGIN:VCALENDAR
VERSION:2.0
PRODID:-//empowercdc.org//NONSGML kigkonsult.se iCalcreator 2.30.10//
CALSCALE:GREGORIAN
METHOD:PUBLISH
UID:d721b459-9588-4484-9976-eb4b2093bfad
X-WR-CALDESC:ARTS & CRAFTS\nDIY HALLOWEEN\nORNAMENTS\n@3:30PM\n\n*Resident 
 only event*
X-WR-RELCALID:e14118e6618918f2255bdf3f578a003f
X-WR-TIMEZONE:America/Chicago
BEGIN:VTIMEZONE
TZID:America/Chicago
BEGIN:STANDARD
TZNAME:CST
DTSTART:20241103T020000
TZOFFSETFROM:-0500
TZOFFSETTO:-0600
RDATE:20251102T020000
RDATE:20261101T020000
END:STANDARD
BEGIN:DAYLIGHT
TZNAME:CDT
DTSTART:20250309T020000
TZOFFSETFROM:-0600
TZOFFSETTO:-0500
RDATE:20260308T020000
RDATE:20270314T020000
END:DAYLIGHT
END:VTIMEZONE
BEGIN:VEVENT
UID:7d85c97f-4d2f-4fd5-b919-5ee15d599680
DTSTAMP:20260423T162638Z
DESCRIPTION:ARTS & CRAFTS\nDIY HALLOWEEN\nORNAMENTS\n@3:30PM\n\n*Resident o
 nly event*
DTSTART;TZID=America/Chicago:20251020T153000
DTEND;TZID=America/Chicago:20251020T163000
LOCATION:1620 Spencer Hwy\, South Houston\, TX 77587 US
SUMMARY:Windsor Gardens: Arts & Crafts
END:VEVENT
END:VCALENDAR
