BEGIN:VCALENDAR
VERSION:2.0
PRODID:-//empowercdc.org//NONSGML kigkonsult.se iCalcreator 2.30.10//
CALSCALE:GREGORIAN
METHOD:PUBLISH
UID:5ae81e14-c328-4f61-b4fd-83646f8501db
X-WR-CALDESC:EXERCISE Empower\nDynamic Stretch\n@ 3:00 PM\n\nHealth & Nutri
 tion\nFruit Bash\n@4:00 PM\n*Resident only event*
X-WR-RELCALID:e20eec03fc7c653919892293f15285f7
X-WR-TIMEZONE:America/Chicago
BEGIN:VTIMEZONE
TZID:America/Chicago
BEGIN:STANDARD
TZNAME:CST
DTSTART:20241103T020000
TZOFFSETFROM:-0500
TZOFFSETTO:-0600
RDATE:20251102T020000
RDATE:20261101T020000
END:STANDARD
BEGIN:DAYLIGHT
TZNAME:CDT
DTSTART:20250309T020000
TZOFFSETFROM:-0600
TZOFFSETTO:-0500
RDATE:20260308T020000
RDATE:20270314T020000
END:DAYLIGHT
END:VTIMEZONE
BEGIN:VEVENT
UID:db6ef9dc-d450-47ce-9628-b803cfd795d5
DTSTAMP:20260423T163902Z
DESCRIPTION:EXERCISE Empower\nDynamic Stretch\n@ 3:00 PM\n\nHealth & Nutrit
 ion\nFruit Bash\n@4:00 PM\n*Resident only event*
DTSTART;TZID=America/Chicago:20251020T150000
DTEND;TZID=America/Chicago:20251020T163000
LOCATION:12353 Huffmeister Rd\, Cypress\, TX 77429 US
SUMMARY:The Meadows: Exercise\, Health & Nutrition
END:VEVENT
END:VCALENDAR
