BEGIN:VCALENDAR
VERSION:2.0
PRODID:-//empowercdc.org//NONSGML kigkonsult.se iCalcreator 2.30.10//
CALSCALE:GREGORIAN
METHOD:PUBLISH
UID:712dfaf0-7d05-446d-90d4-7366f86bae14
X-WR-CALDESC:HEALTH & NUTRITION-Empower\n\nHoney Bombs\n@2:30PM
X-WR-RELCALID:2ae289f83db19dcfb65bdf9c8ba2b12d
X-WR-TIMEZONE:America/Chicago
BEGIN:VTIMEZONE
TZID:America/Chicago
BEGIN:STANDARD
TZNAME:CST
DTSTART:20241103T020000
TZOFFSETFROM:-0500
TZOFFSETTO:-0600
RDATE:20251102T020000
RDATE:20261101T020000
END:STANDARD
BEGIN:DAYLIGHT
TZNAME:CDT
DTSTART:20250309T020000
TZOFFSETFROM:-0600
TZOFFSETTO:-0500
RDATE:20260308T020000
RDATE:20270314T020000
END:DAYLIGHT
END:VTIMEZONE
BEGIN:VEVENT
UID:13eee2ff-6d2f-4fdb-ad8d-efcd4e8022b9
DTSTAMP:20260423T164219Z
DESCRIPTION:HEALTH & NUTRITION-Empower\n\nHoney Bombs\n@2:30PM
DTSTART;TZID=America/Chicago:20251020T143000
DTEND;TZID=America/Chicago:20251020T153000
LOCATION:325 Flagship Boulevard\, Montgomery\, TX 77316 US
SUMMARY:The Heritage: Health & Nutrition
END:VEVENT
END:VCALENDAR
