BEGIN:VCALENDAR
VERSION:2.0
PRODID:-//empowercdc.org//NONSGML kigkonsult.se iCalcreator 2.30.10//
CALSCALE:GREGORIAN
METHOD:PUBLISH
UID:907bceb6-1370-4dc1-abd4-f8169c5baeac
X-WR-CALDESC:OUTREACH &\nEDUCATION - CHC-CP\nMedicare Open\nEnrollment\n@11
 :00AM\n\nTxSMP- Empower\nScam of the Month\n@ 12:00PM
X-WR-RELCALID:01fbf9dd91edbac9c1d358fdc9bdd359
X-WR-TIMEZONE:America/Chicago
BEGIN:VTIMEZONE
TZID:America/Chicago
BEGIN:STANDARD
TZNAME:CST
DTSTART:20241103T020000
TZOFFSETFROM:-0500
TZOFFSETTO:-0600
RDATE:20251102T020000
RDATE:20261101T020000
END:STANDARD
BEGIN:DAYLIGHT
TZNAME:CDT
DTSTART:20250309T020000
TZOFFSETFROM:-0600
TZOFFSETTO:-0500
RDATE:20260308T020000
RDATE:20270314T020000
END:DAYLIGHT
END:VTIMEZONE
BEGIN:VEVENT
UID:1eb2e9a0-7dda-449e-931b-b7593d714e6b
DTSTAMP:20260423T164337Z
DESCRIPTION:OUTREACH &\nEDUCATION - CHC-CP\nMedicare Open\nEnrollment\n@11:
 00AM\n\nTxSMP- Empower\nScam of the Month\n@ 12:00PM
DTSTART;TZID=America/Chicago:20251020T110000
DTEND;TZID=America/Chicago:20251020T130000
LOCATION:219 Flagship Blvd\, Montgomery\, TX 77316 US
SUMMARY:The Heritage 55+: Outreach & Education\, TxSMP
END:VEVENT
END:VCALENDAR
