BEGIN:VCALENDAR
VERSION:2.0
PRODID:-//empowercdc.org//NONSGML kigkonsult.se iCalcreator 2.30.10//
CALSCALE:GREGORIAN
METHOD:PUBLISH
UID:421f79f1-bc29-4fb4-b374-9b189274a8de
X-WR-CALDESC:TX SMP\nSCAM OF THE MONTH\n@10:30AM\n\nSOCIAL\nBENEFITS REVEAL
 \nCP- Jeanette Morales\n@11AM\n\n*Resident only event*
X-WR-RELCALID:fef7c4f775e31461362fc922d5a43729
X-WR-TIMEZONE:America/Chicago
BEGIN:VTIMEZONE
TZID:America/Chicago
BEGIN:STANDARD
TZNAME:CST
DTSTART:20241103T020000
TZOFFSETFROM:-0500
TZOFFSETTO:-0600
RDATE:20251102T020000
RDATE:20261101T020000
END:STANDARD
BEGIN:DAYLIGHT
TZNAME:CDT
DTSTART:20250309T020000
TZOFFSETFROM:-0600
TZOFFSETTO:-0500
RDATE:20260308T020000
RDATE:20270314T020000
END:DAYLIGHT
END:VTIMEZONE
BEGIN:VEVENT
UID:bc0865c7-0b9c-4b3a-a87b-392e4a5c7347
DTSTAMP:20260423T164108Z
DESCRIPTION:TX SMP\nSCAM OF THE MONTH\n@10:30AM\n\nSOCIAL\nBENEFITS REVEAL
 \nCP- Jeanette Morales\n@11AM\n\n*Resident only event*
DTSTART;TZID=America/Chicago:20251020T103000
DTEND;TZID=America/Chicago:20251020T120000
LOCATION:1717 FM359\, Richmond\, TX 77406 US
SUMMARY:Jones Creek: TxSMP\, Social
END:VEVENT
END:VCALENDAR
