BEGIN:VCALENDAR
VERSION:2.0
PRODID:-//empowercdc.org//NONSGML kigkonsult.se iCalcreator 2.30.10//
CALSCALE:GREGORIAN
METHOD:PUBLISH
UID:832c852c-0b25-4e71-b509-ed31d35b154e
X-WR-CALDESC:EXERCISE\nCHAIR EXERCISE\n@10:30AM
X-WR-RELCALID:5ba72349686755bedc27abf8b67f02fd
X-WR-TIMEZONE:America/Chicago
BEGIN:VTIMEZONE
TZID:America/Chicago
BEGIN:STANDARD
TZNAME:CST
DTSTART:20241103T020000
TZOFFSETFROM:-0500
TZOFFSETTO:-0600
RDATE:20251102T020000
RDATE:20261101T020000
END:STANDARD
BEGIN:DAYLIGHT
TZNAME:CDT
DTSTART:20250309T020000
TZOFFSETFROM:-0600
TZOFFSETTO:-0500
RDATE:20260308T020000
RDATE:20270314T020000
END:DAYLIGHT
END:VTIMEZONE
BEGIN:VEVENT
UID:cf1ea9b1-1c2a-46dd-80a1-360e587c213f
DTSTAMP:20260423T163621Z
DESCRIPTION:EXERCISE\nCHAIR EXERCISE\n@10:30AM
DTSTART;TZID=America/Chicago:20251017T103000
DTEND;TZID=America/Chicago:20251017T113000
LOCATION:15707 Kuykendahl Ct\, Conroe\, AL 77384 US
SUMMARY:Kuykendalh Court: Exercise
END:VEVENT
END:VCALENDAR
