BEGIN:VCALENDAR
VERSION:2.0
PRODID:-//empowercdc.org//NONSGML kigkonsult.se iCalcreator 2.30.10//
CALSCALE:GREGORIAN
METHOD:PUBLISH
UID:83992495-c8de-42fd-9677-f908827d9e22
X-WR-CALDESC:FOOD PANTRY-Empower\nFood Pantry\n@2:00PM\n\nTxSMP- Empower\nS
 cam of the Month\n@3:00PM
X-WR-RELCALID:9cfd4712955aa1593464aaaf461c1298
X-WR-TIMEZONE:America/Chicago
BEGIN:VTIMEZONE
TZID:America/Chicago
BEGIN:STANDARD
TZNAME:CST
DTSTART:20241103T020000
TZOFFSETFROM:-0500
TZOFFSETTO:-0600
RDATE:20251102T020000
RDATE:20261101T020000
END:STANDARD
BEGIN:DAYLIGHT
TZNAME:CDT
DTSTART:20250309T020000
TZOFFSETFROM:-0600
TZOFFSETTO:-0500
RDATE:20260308T020000
RDATE:20270314T020000
END:DAYLIGHT
END:VTIMEZONE
BEGIN:VEVENT
UID:696f7697-2304-4b3e-8d9d-d23e105586f7
DTSTAMP:20260423T164330Z
DESCRIPTION:FOOD PANTRY-Empower\nFood Pantry\n@2:00PM\n\nTxSMP- Empower\nSc
 am of the Month\n@3:00PM
DTSTART;TZID=America/Chicago:20251016T140000
DTEND;TZID=America/Chicago:20251016T160000
LOCATION:325 Flagship Boulevard\, Montgomery\, TX 77316 US
SUMMARY:The Heritage: Food Pantry\, TxSMP
END:VEVENT
END:VCALENDAR
