BEGIN:VCALENDAR
VERSION:2.0
PRODID:-//empowercdc.org//NONSGML kigkonsult.se iCalcreator 2.30.10//
CALSCALE:GREGORIAN
METHOD:PUBLISH
UID:bc780f39-5ec3-4386-8d71-43b82785e7f8
X-WR-CALDESC:FOOD PANTRY\n@1PM\n\nTX SMP\nSCAM OF THE MONTH\n@2PM\n\nEXERCI
 SE\nKIDS RECESS WORKOUT\n@3:30PM\n\n*Resident only event*
X-WR-RELCALID:163f65b3528660b4de376a2fb4a02dea
X-WR-TIMEZONE:America/Chicago
BEGIN:VTIMEZONE
TZID:America/Chicago
BEGIN:STANDARD
TZNAME:CST
DTSTART:20241103T020000
TZOFFSETFROM:-0500
TZOFFSETTO:-0600
RDATE:20251102T020000
RDATE:20261101T020000
END:STANDARD
BEGIN:DAYLIGHT
TZNAME:CDT
DTSTART:20250309T020000
TZOFFSETFROM:-0600
TZOFFSETTO:-0500
RDATE:20260308T020000
RDATE:20270314T020000
END:DAYLIGHT
END:VTIMEZONE
BEGIN:VEVENT
UID:6d707aa6-0474-4ba1-bfbc-f679eb333689
DTSTAMP:20260423T164045Z
DESCRIPTION:FOOD PANTRY\n@1PM\n\nTX SMP\nSCAM OF THE MONTH\n@2PM\n\nEXERCIS
 E\nKIDS RECESS WORKOUT\n@3:30PM\n\n*Resident only event*
DTSTART;TZID=America/Chicago:20251014T130000
DTEND;TZID=America/Chicago:20251014T163000
LOCATION:1620 Spencer Hwy\, South Houston\, TX 77587 US
SUMMARY:Windsor Gardens: Food Pantry\, TxSMP\, Exercise
END:VEVENT
END:VCALENDAR
