BEGIN:VCALENDAR
VERSION:2.0
PRODID:-//empowercdc.org//NONSGML kigkonsult.se iCalcreator 2.30.10//
CALSCALE:GREGORIAN
METHOD:PUBLISH
UID:745e80c2-9a24-454f-aa1b-5854fe62380f
X-WR-CALDESC:ARTS & CRAFTS\nDIY PUMPKINS\n@3:30PM\n\n*Resident only event*
X-WR-RELCALID:e991f28be2ad58090b91103ccf3535da
X-WR-TIMEZONE:America/Chicago
BEGIN:VTIMEZONE
TZID:America/Chicago
BEGIN:STANDARD
TZNAME:CST
DTSTART:20241103T020000
TZOFFSETFROM:-0500
TZOFFSETTO:-0600
RDATE:20251102T020000
RDATE:20261101T020000
END:STANDARD
BEGIN:DAYLIGHT
TZNAME:CDT
DTSTART:20250309T020000
TZOFFSETFROM:-0600
TZOFFSETTO:-0500
RDATE:20260308T020000
RDATE:20270314T020000
END:DAYLIGHT
END:VTIMEZONE
BEGIN:VEVENT
UID:490d73d8-e536-400b-bb46-6097e5a7e65c
DTSTAMP:20260423T163546Z
DESCRIPTION:ARTS & CRAFTS\nDIY PUMPKINS\n@3:30PM\n\n*Resident only event*
DTSTART;TZID=America/Chicago:20251013T153000
DTEND;TZID=America/Chicago:20251013T163000
LOCATION:1620 Spencer Hwy\, South Houston\, TX 77587 US
SUMMARY:Windsor Gardens: Arts & Crafts
END:VEVENT
END:VCALENDAR
