BEGIN:VCALENDAR
VERSION:2.0
PRODID:-//empowercdc.org//NONSGML kigkonsult.se iCalcreator 2.30.10//
CALSCALE:GREGORIAN
METHOD:PUBLISH
UID:ea2d04e0-17db-4516-a7f6-161800aaa692
X-WR-CALDESC:EXERCISE\nEmpower\nDynamic Stretch\n@ 3:00 PM\n\nARTS & CRAFTS
 \nEmpower\nColumbus Day\nColoring\n@4:00 PM\n\n*Resident only event*
X-WR-RELCALID:c4d83aba31fe342950ff000a00a38ca5
X-WR-TIMEZONE:America/Chicago
BEGIN:VTIMEZONE
TZID:America/Chicago
BEGIN:STANDARD
TZNAME:CST
DTSTART:20241103T020000
TZOFFSETFROM:-0500
TZOFFSETTO:-0600
RDATE:20251102T020000
RDATE:20261101T020000
END:STANDARD
BEGIN:DAYLIGHT
TZNAME:CDT
DTSTART:20250309T020000
TZOFFSETFROM:-0600
TZOFFSETTO:-0500
RDATE:20260308T020000
RDATE:20270314T020000
END:DAYLIGHT
END:VTIMEZONE
BEGIN:VEVENT
UID:23524ac2-d722-4300-9aa4-4dbea67121cd
DTSTAMP:20260423T163436Z
DESCRIPTION:EXERCISE\nEmpower\nDynamic Stretch\n@ 3:00 PM\n\nARTS & CRAFTS
 \nEmpower\nColumbus Day\nColoring\n@4:00 PM\n\n*Resident only event*
DTSTART;TZID=America/Chicago:20251013T150000
DTEND;TZID=America/Chicago:20251013T163000
LOCATION:12353 Huffmeister Rd\, Cypress\, TX 77429 US
SUMMARY:The Meadows: Exercise\, Arts & Crafts
END:VEVENT
END:VCALENDAR
