BEGIN:VCALENDAR
VERSION:2.0
PRODID:-//empowercdc.org//NONSGML kigkonsult.se iCalcreator 2.30.10//
CALSCALE:GREGORIAN
METHOD:PUBLISH
UID:1ebf5615-d256-455c-8a6f-d0930260fdf8
X-WR-CALDESC:OUTREACH & EDUCATION-\nEmpower\n\nStomping out Cancer\n@2:30PM
X-WR-RELCALID:5749c46b3e511398bef0b3fcd7d5af40
X-WR-TIMEZONE:America/Chicago
BEGIN:VTIMEZONE
TZID:America/Chicago
BEGIN:STANDARD
TZNAME:CST
DTSTART:20241103T020000
TZOFFSETFROM:-0500
TZOFFSETTO:-0600
RDATE:20251102T020000
RDATE:20261101T020000
END:STANDARD
BEGIN:DAYLIGHT
TZNAME:CDT
DTSTART:20250309T020000
TZOFFSETFROM:-0600
TZOFFSETTO:-0500
RDATE:20260308T020000
RDATE:20270314T020000
END:DAYLIGHT
END:VTIMEZONE
BEGIN:VEVENT
UID:eba0bc65-4cf2-4c82-8473-1b089a2c9f5c
DTSTAMP:20260423T163916Z
DESCRIPTION:OUTREACH & EDUCATION-\nEmpower\n\nStomping out Cancer\n@2:30PM
DTSTART;TZID=America/Chicago:20251013T143000
DTEND;TZID=America/Chicago:20251013T153000
LOCATION:325 Flagship Boulevard\, Montgomery\, TX 77316 US
SUMMARY:The Heritage: Outreach & Education
END:VEVENT
END:VCALENDAR
