BEGIN:VCALENDAR
VERSION:2.0
PRODID:-//empowercdc.org//NONSGML kigkonsult.se iCalcreator 2.30.10//
CALSCALE:GREGORIAN
METHOD:PUBLISH
UID:3e54bbeb-7991-49cb-a9dc-935eab00d865
X-WR-CALDESC:OUTREACH &\nEDUCATION-Empower\nStomping out Cancer\n@11:30AM
X-WR-RELCALID:c77f8c9a29f81b8be8fd45b7d40f28ed
X-WR-TIMEZONE:America/Chicago
BEGIN:VTIMEZONE
TZID:America/Chicago
BEGIN:STANDARD
TZNAME:CST
DTSTART:20241103T020000
TZOFFSETFROM:-0500
TZOFFSETTO:-0600
RDATE:20251102T020000
RDATE:20261101T020000
END:STANDARD
BEGIN:DAYLIGHT
TZNAME:CDT
DTSTART:20250309T020000
TZOFFSETFROM:-0600
TZOFFSETTO:-0500
RDATE:20260308T020000
RDATE:20270314T020000
END:DAYLIGHT
END:VTIMEZONE
BEGIN:VEVENT
UID:e1f580fd-1d3c-41d0-806f-fd16a66b43bc
DTSTAMP:20260423T164052Z
DESCRIPTION:OUTREACH &\nEDUCATION-Empower\nStomping out Cancer\n@11:30AM
DTSTART;TZID=America/Chicago:20251013T113000
DTEND;TZID=America/Chicago:20251013T123000
LOCATION:219 Flagship Blvd\, Montgomery\, TX 77316 US
SUMMARY:The Heritage 55+: Outreach & Education
END:VEVENT
END:VCALENDAR
