BEGIN:VCALENDAR
VERSION:2.0
PRODID:-//empowercdc.org//NONSGML kigkonsult.se iCalcreator 2.30.10//
CALSCALE:GREGORIAN
METHOD:PUBLISH
UID:d45305b4-2012-41f9-8fb8-6287912dfeed
X-WR-CALDESC:EXERCISE\nCHAIR EXERCISE\n@10AM\n\nHEALTH & NUTRITION\nHeath &
  Wellness BINGO\nCP-Community Health\nChoice\n@11AM\n\n*Resident only even
 t*
X-WR-RELCALID:156d8f0989a8dfee978a93f15e21875d
X-WR-TIMEZONE:America/Chicago
BEGIN:VTIMEZONE
TZID:America/Chicago
BEGIN:STANDARD
TZNAME:CST
DTSTART:20241103T020000
TZOFFSETFROM:-0500
TZOFFSETTO:-0600
RDATE:20251102T020000
RDATE:20261101T020000
END:STANDARD
BEGIN:DAYLIGHT
TZNAME:CDT
DTSTART:20250309T020000
TZOFFSETFROM:-0600
TZOFFSETTO:-0500
RDATE:20260308T020000
RDATE:20270314T020000
END:DAYLIGHT
END:VTIMEZONE
BEGIN:VEVENT
UID:e0d611ef-3eb8-463c-a7e3-ab146f786a88
DTSTAMP:20260423T164231Z
DESCRIPTION:EXERCISE\nCHAIR EXERCISE\n@10AM\n\nHEALTH & NUTRITION\nHeath & 
 Wellness BINGO\nCP-Community Health\nChoice\n@11AM\n\n*Resident only event
 *
DTSTART;TZID=America/Chicago:20251013T100000
DTEND;TZID=America/Chicago:20251013T120000
LOCATION:1717 FM359\, Richmond\, TX 77406 US
SUMMARY:Jones Creek: Exercise\, Health & Nutrition
END:VEVENT
END:VCALENDAR
