BEGIN:VCALENDAR
VERSION:2.0
PRODID:-//empowercdc.org//NONSGML kigkonsult.se iCalcreator 2.30.10//
CALSCALE:GREGORIAN
METHOD:PUBLISH
UID:a29081cb-c2cb-4509-9e63-00ad96229094
X-WR-CALDESC:ARTS & CRAFTS- Empower\nCanvas Painting\n@2:00PM\n\n*Registrat
 ion Required*\n\nTxSMP- Empower\nScam of the Month\n@3:00PM
X-WR-RELCALID:907b2029b7775cf3d907d92f5ff6ddef
X-WR-TIMEZONE:America/Chicago
BEGIN:VTIMEZONE
TZID:America/Chicago
BEGIN:STANDARD
TZNAME:CST
DTSTART:20241103T020000
TZOFFSETFROM:-0500
TZOFFSETTO:-0600
RDATE:20251102T020000
RDATE:20261101T020000
END:STANDARD
BEGIN:DAYLIGHT
TZNAME:CDT
DTSTART:20250309T020000
TZOFFSETFROM:-0600
TZOFFSETTO:-0500
RDATE:20260308T020000
RDATE:20270314T020000
END:DAYLIGHT
END:VTIMEZONE
BEGIN:VEVENT
UID:616bb26e-ae89-4433-9848-34fe7eee913c
DTSTAMP:20260423T163935Z
DESCRIPTION:ARTS & CRAFTS- Empower\nCanvas Painting\n@2:00PM\n\n*Registrati
 on Required*\n\nTxSMP- Empower\nScam of the Month\n@3:00PM
DTSTART;TZID=America/Chicago:20251009T140000
DTEND;TZID=America/Chicago:20251009T150000
LOCATION:325 Flagship Boulevard\, Montgomery\, TX 77316 US
SUMMARY:The Heritage: Arts & Crafts\, TxSMP
END:VEVENT
END:VCALENDAR
