BEGIN:VCALENDAR
VERSION:2.0
PRODID:-//empowercdc.org//NONSGML kigkonsult.se iCalcreator 2.30.10//
CALSCALE:GREGORIAN
METHOD:PUBLISH
UID:9d2f9559-0119-4479-9d5a-9b4c9abcc0fc
X-WR-CALDESC:9\nSENIOR 101 EMAIL LITERACY\nWORKSHOP\nEMAIL SECURITY & PRIVA
 CY\n@10:30AM\n\nARTS & CRAFTS\nDIY JEWELRY\n@11AM
X-WR-RELCALID:2bf22eddb2008e70f6bdedee17188277
X-WR-TIMEZONE:America/Chicago
BEGIN:VTIMEZONE
TZID:America/Chicago
BEGIN:STANDARD
TZNAME:CST
DTSTART:20241103T020000
TZOFFSETFROM:-0500
TZOFFSETTO:-0600
RDATE:20251102T020000
RDATE:20261101T020000
END:STANDARD
BEGIN:DAYLIGHT
TZNAME:CDT
DTSTART:20250309T020000
TZOFFSETFROM:-0600
TZOFFSETTO:-0500
RDATE:20260308T020000
RDATE:20270314T020000
END:DAYLIGHT
END:VTIMEZONE
BEGIN:VEVENT
UID:7706d8fd-d3b4-438c-b09e-1cfcd7dcd589
DTSTAMP:20260423T164531Z
DESCRIPTION:9\nSENIOR 101 EMAIL LITERACY\nWORKSHOP\nEMAIL SECURITY & PRIVAC
 Y\n@10:30AM\n\nARTS & CRAFTS\nDIY JEWELRY\n@11AM
DTSTART;TZID=America/Chicago:20251009T103000
DTEND;TZID=America/Chicago:20251009T120000
LOCATION:15707 Kuykendahl Ct\, Conroe\, AL 77384 US
SUMMARY:Kuykendalh Court: Senior Literacy Workshop\, Arts & Crafts
END:VEVENT
END:VCALENDAR
