BEGIN:VCALENDAR
VERSION:2.0
PRODID:-//empowercdc.org//NONSGML kigkonsult.se iCalcreator 2.30.10//
CALSCALE:GREGORIAN
METHOD:PUBLISH
UID:44cdc5a1-2197-40ff-852c-45053cb4778c
X-WR-CALDESC:Financial Planning\nEmpower\nBudgeting During the\nHolidays\n@
 3:00 PM\n\nCharacter Building\nEmpower\nSpelling B\n@4:00 PM\n\n*Resident 
 only event*
X-WR-RELCALID:b8309d4962c081b800c79fc8c3e1c4da
X-WR-TIMEZONE:America/Chicago
BEGIN:VTIMEZONE
TZID:America/Chicago
BEGIN:STANDARD
TZNAME:CST
DTSTART:20241103T020000
TZOFFSETFROM:-0500
TZOFFSETTO:-0600
RDATE:20251102T020000
RDATE:20261101T020000
END:STANDARD
BEGIN:DAYLIGHT
TZNAME:CDT
DTSTART:20250309T020000
TZOFFSETFROM:-0600
TZOFFSETTO:-0500
RDATE:20260308T020000
RDATE:20270314T020000
END:DAYLIGHT
END:VTIMEZONE
BEGIN:VEVENT
UID:8d843a1d-5ab4-4a4f-bee4-5856fd244b1c
DTSTAMP:20260423T163611Z
DESCRIPTION:Financial Planning\nEmpower\nBudgeting During the\nHolidays\n@3
 :00 PM\n\nCharacter Building\nEmpower\nSpelling B\n@4:00 PM\n\n*Resident o
 nly event*
DTSTART;TZID=America/Chicago:20251009T150000
DTEND;TZID=America/Chicago:20251009T170000
LOCATION:6725 Brittmoore Road\, Houston\, TX 77041 US
SUMMARY:Brittmoore: Financial Planning\, Character Building
END:VEVENT
END:VCALENDAR
