BEGIN:VCALENDAR
VERSION:2.0
PRODID:-//empowercdc.org//NONSGML kigkonsult.se iCalcreator 2.30.10//
CALSCALE:GREGORIAN
METHOD:PUBLISH
UID:1c536f72-b8fd-4c4f-b1c4-368137a62eb6
X-WR-CALDESC:SENIOR 101 EMAIL LITERACY\nWORKSHOP\nEMAIL SECURITY & PRIVACY
 \n@10AM\n\nEXERCISE\nCHAIR EXERCISE\n@10:30AM\n\n*Resident only event*
X-WR-RELCALID:560e8e32049dac7ce4db8ec519bb85cf
X-WR-TIMEZONE:America/Chicago
BEGIN:VTIMEZONE
TZID:America/Chicago
BEGIN:STANDARD
TZNAME:CST
DTSTART:20241103T020000
TZOFFSETFROM:-0500
TZOFFSETTO:-0600
RDATE:20251102T020000
RDATE:20261101T020000
END:STANDARD
BEGIN:DAYLIGHT
TZNAME:CDT
DTSTART:20250309T020000
TZOFFSETFROM:-0600
TZOFFSETTO:-0500
RDATE:20260308T020000
RDATE:20270314T020000
END:DAYLIGHT
END:VTIMEZONE
BEGIN:VEVENT
UID:345ffd2d-b254-471a-8962-b19a48c1b268
DTSTAMP:20260423T163909Z
DESCRIPTION:SENIOR 101 EMAIL LITERACY\nWORKSHOP\nEMAIL SECURITY & PRIVACY\n
 @10AM\n\nEXERCISE\nCHAIR EXERCISE\n@10:30AM\n\n*Resident only event*
DTSTART;TZID=America/Chicago:20251007T100000
DTEND;TZID=America/Chicago:20251007T113000
LOCATION:1717 FM359\, Richmond\, TX 77406 US
SUMMARY:Jones Creek: Senior Literacy\, Exercise
END:VEVENT
END:VCALENDAR
