BEGIN:VCALENDAR
VERSION:2.0
PRODID:-//empowercdc.org//NONSGML kigkonsult.se iCalcreator 2.30.10//
CALSCALE:GREGORIAN
METHOD:PUBLISH
UID:c8636816-fd18-4315-92de-df39d0e5737b
X-WR-CALDESC:SOCIAL\nBIRTHDAY PIZZA PARTY\n@3:30PM\n\n*Resident only event*
X-WR-RELCALID:19ae97db8b8c6278837b957defe44177
X-WR-TIMEZONE:America/Chicago
BEGIN:VTIMEZONE
TZID:America/Chicago
BEGIN:STANDARD
TZNAME:CST
DTSTART:20241103T020000
TZOFFSETFROM:-0500
TZOFFSETTO:-0600
RDATE:20251102T020000
RDATE:20261101T020000
END:STANDARD
BEGIN:DAYLIGHT
TZNAME:CDT
DTSTART:20250309T020000
TZOFFSETFROM:-0600
TZOFFSETTO:-0500
RDATE:20260308T020000
RDATE:20270314T020000
END:DAYLIGHT
END:VTIMEZONE
BEGIN:VEVENT
UID:0b2c1bbe-5b94-4b0d-a818-0907211aaaef
DTSTAMP:20260423T163157Z
DESCRIPTION:SOCIAL\nBIRTHDAY PIZZA PARTY\n@3:30PM\n\n*Resident only event*
DTSTART;TZID=America/Chicago:20251006T133000
DTEND;TZID=America/Chicago:20251006T153000
LOCATION:1620 Spencer Hwy\, South Houston\, TX 77587 US
SUMMARY:Windsor Gardens: Social
END:VEVENT
END:VCALENDAR
