BEGIN:VCALENDAR
VERSION:2.0
PRODID:-//empowercdc.org//NONSGML kigkonsult.se iCalcreator 2.30.10//
CALSCALE:GREGORIAN
METHOD:PUBLISH
UID:5e806976-8e7c-4324-a69d-ed5d32280c55
X-WR-CALDESC:CHARACTER BUILDING-Empower\nBullying @1:30PM
X-WR-RELCALID:c2f224443ef993d3c962f96b095cdc70
X-WR-TIMEZONE:America/Chicago
BEGIN:VTIMEZONE
TZID:America/Chicago
BEGIN:STANDARD
TZNAME:CST
DTSTART:20241103T020000
TZOFFSETFROM:-0500
TZOFFSETTO:-0600
RDATE:20251102T020000
RDATE:20261101T020000
END:STANDARD
BEGIN:DAYLIGHT
TZNAME:CDT
DTSTART:20250309T020000
TZOFFSETFROM:-0600
TZOFFSETTO:-0500
RDATE:20260308T020000
RDATE:20270314T020000
END:DAYLIGHT
END:VTIMEZONE
BEGIN:VEVENT
UID:c880beb5-d754-47f3-a6b5-7ef1c4ec075e
DTSTAMP:20260423T161656Z
DESCRIPTION:CHARACTER BUILDING-Empower\nBullying @1:30PM
DTSTART;TZID=America/Chicago:20251006T133000
DTEND;TZID=America/Chicago:20251006T143000
LOCATION:325 Flagship Boulevard\, Montgomery\, TX 77316 US
SUMMARY:The Heritage: Character Building
END:VEVENT
END:VCALENDAR
