BEGIN:VCALENDAR
VERSION:2.0
PRODID:-//empowercdc.org//NONSGML kigkonsult.se iCalcreator 2.30.10//
CALSCALE:GREGORIAN
METHOD:PUBLISH
UID:8d03c170-dba8-4fc9-af81-d62d90c8bbad
X-WR-CALDESC:SOCIAL-Cedar- CP\nFor the Love of\nBINGO!!!\n@ 1:00PM
X-WR-RELCALID:81370fb29e38a9e0f44626fc6c6c7328
X-WR-TIMEZONE:America/Chicago
BEGIN:VTIMEZONE
TZID:America/Chicago
BEGIN:STANDARD
TZNAME:CST
DTSTART:20241103T020000
TZOFFSETFROM:-0500
TZOFFSETTO:-0600
RDATE:20251102T020000
RDATE:20261101T020000
END:STANDARD
BEGIN:DAYLIGHT
TZNAME:CDT
DTSTART:20250309T020000
TZOFFSETFROM:-0600
TZOFFSETTO:-0500
RDATE:20260308T020000
RDATE:20270314T020000
END:DAYLIGHT
END:VTIMEZONE
BEGIN:VEVENT
UID:4985ac28-4d43-4ef4-8e75-b9758d569048
DTSTAMP:20260423T161529Z
DESCRIPTION:SOCIAL-Cedar- CP\nFor the Love of\nBINGO!!!\n@ 1:00PM
DTSTART;TZID=America/Chicago:20251003T130000
DTEND;TZID=America/Chicago:20251003T140000
LOCATION:1830 Hollyoak Dr\, Houston\, AL 77084 US
SUMMARY:Hollyoak: Bingo
END:VEVENT
END:VCALENDAR
