BEGIN:VCALENDAR
VERSION:2.0
PRODID:-//empowercdc.org//NONSGML kigkonsult.se iCalcreator 2.30.10//
CALSCALE:GREGORIAN
METHOD:PUBLISH
UID:f53a0f47-a173-4fbc-9409-b97c9480ac35
X-WR-CALDESC:EXERCISE\nCHAIR EXERCISE\n@10AM\n\nSOCIAL\nBENEFITS REVEAL\nCP
 - Jeff Texans Benefits\n@11AM
X-WR-RELCALID:807193fca38c604c82ba9eae66c24ae2
X-WR-TIMEZONE:America/Chicago
BEGIN:VTIMEZONE
TZID:America/Chicago
BEGIN:STANDARD
TZNAME:CST
DTSTART:20241103T020000
TZOFFSETFROM:-0500
TZOFFSETTO:-0600
RDATE:20251102T020000
RDATE:20261101T020000
END:STANDARD
BEGIN:DAYLIGHT
TZNAME:CDT
DTSTART:20250309T020000
TZOFFSETFROM:-0600
TZOFFSETTO:-0500
RDATE:20260308T020000
RDATE:20270314T020000
END:DAYLIGHT
END:VTIMEZONE
BEGIN:VEVENT
UID:3a2850e0-1637-4784-97d1-cb24b7f2f7fd
DTSTAMP:20260423T164058Z
DESCRIPTION:EXERCISE\nCHAIR EXERCISE\n@10AM\n\nSOCIAL\nBENEFITS REVEAL\nCP-
  Jeff Texans Benefits\n@11AM
DTSTART;TZID=America/Chicago:20251002T100000
DTEND;TZID=America/Chicago:20251002T120000
LOCATION:15707 Kuykendahl Ct\, Conroe\, AL 77384 US
SUMMARY:Kuykendalh Court: Exercise\, Social
END:VEVENT
END:VCALENDAR
