BEGIN:VCALENDAR
VERSION:2.0
PRODID:-//empowercdc.org//NONSGML kigkonsult.se iCalcreator 2.30.10//
CALSCALE:GREGORIAN
METHOD:PUBLISH
UID:bf9924b9-fbff-4547-b1d4-013ccfd49353
X-WR-CALDESC:EXERCISE- BONA- CP\nSuper Senior Fitness\n@1:00PM\n\nSOCIAL- T
 exans Benefit-CP\n\nBirthday Social\n@ 2:30PM
X-WR-RELCALID:39e93e30731b3bb24f970d3d2835b96e
X-WR-TIMEZONE:America/Chicago
BEGIN:VTIMEZONE
TZID:America/Chicago
BEGIN:STANDARD
TZNAME:CST
DTSTART:20241103T020000
TZOFFSETFROM:-0500
TZOFFSETTO:-0600
RDATE:20251102T020000
RDATE:20261101T020000
END:STANDARD
BEGIN:DAYLIGHT
TZNAME:CDT
DTSTART:20250309T020000
TZOFFSETFROM:-0600
TZOFFSETTO:-0500
RDATE:20260308T020000
RDATE:20270314T020000
END:DAYLIGHT
END:VTIMEZONE
BEGIN:VEVENT
UID:8f5d7ca8-b988-427a-8d30-6d2f0de86c53
DTSTAMP:20260423T161524Z
DESCRIPTION:EXERCISE- BONA- CP\nSuper Senior Fitness\n@1:00PM\n\nSOCIAL- Te
 xans Benefit-CP\n\nBirthday Social\n@ 2:30PM
DTSTART;TZID=America/Chicago:20251002T130000
DTEND;TZID=America/Chicago:20251002T153000
LOCATION:1830 Hollyoak Dr\, Houston\, AL 77084 US
SUMMARY:Hollyoak: Exercise\, Texans Benefit
END:VEVENT
END:VCALENDAR
