BEGIN:VCALENDAR
VERSION:2.0
PRODID:-//empowercdc.org//NONSGML kigkonsult.se iCalcreator 2.30.10//
CALSCALE:GREGORIAN
METHOD:PUBLISH
UID:6872ade1-23ef-4cd2-8868-2e49f2f08d7a
X-WR-CALDESC:ARTS & CRAFTS\nDIY AROMA STONES\n@11AM\n\n*Resident only event
 *
X-WR-RELCALID:972f796b3afdad9ce563b1040c5b091d
X-WR-TIMEZONE:America/Chicago
BEGIN:VTIMEZONE
TZID:America/Chicago
BEGIN:STANDARD
TZNAME:CST
DTSTART:20241103T020000
TZOFFSETFROM:-0500
TZOFFSETTO:-0600
RDATE:20251102T020000
RDATE:20261101T020000
END:STANDARD
BEGIN:DAYLIGHT
TZNAME:CDT
DTSTART:20250309T020000
TZOFFSETFROM:-0600
TZOFFSETTO:-0500
RDATE:20260308T020000
RDATE:20270314T020000
END:DAYLIGHT
END:VTIMEZONE
BEGIN:VEVENT
UID:07a1a170-dbcc-445d-9e7a-b49d5d3f32f8
DTSTAMP:20260423T144836Z
DESCRIPTION:ARTS & CRAFTS\nDIY AROMA STONES\n@11AM\n\n*Resident only event*
DTSTART;TZID=America/Chicago:20250929T110000
DTEND;TZID=America/Chicago:20250929T120000
LOCATION:1717 FM359\, Richmond\, TX 77406 US
SUMMARY:Jones Creek: Arts & Crafts
END:VEVENT
END:VCALENDAR
