BEGIN:VCALENDAR
VERSION:2.0
PRODID:-//empowercdc.org//NONSGML kigkonsult.se iCalcreator 2.30.10//
CALSCALE:GREGORIAN
METHOD:PUBLISH
UID:2c3c0243-8059-48a7-8e67-6f317a68032c
X-WR-CALDESC:EXERCISE\nFITNESS BINGO\n@10:30AM
X-WR-RELCALID:828191a8127ba4b233db1e0eabcdde9e
X-WR-TIMEZONE:America/Chicago
BEGIN:VTIMEZONE
TZID:America/Chicago
BEGIN:STANDARD
TZNAME:CST
DTSTART:20241103T020000
TZOFFSETFROM:-0500
TZOFFSETTO:-0600
RDATE:20251102T020000
RDATE:20261101T020000
END:STANDARD
BEGIN:DAYLIGHT
TZNAME:CDT
DTSTART:20250309T020000
TZOFFSETFROM:-0600
TZOFFSETTO:-0500
RDATE:20260308T020000
RDATE:20270314T020000
END:DAYLIGHT
END:VTIMEZONE
BEGIN:VEVENT
UID:630a59e0-1fbe-42a6-8fbd-edb0fad7daf1
DTSTAMP:20260423T145714Z
DESCRIPTION:EXERCISE\nFITNESS BINGO\n@10:30AM
DTSTART;TZID=America/Chicago:20250926T103000
DTEND;TZID=America/Chicago:20250926T113000
LOCATION:15707 Kuykendahl Ct\, Conroe\, AL 77384 US
SUMMARY:Kuykendalh Court: Exercise
END:VEVENT
END:VCALENDAR
