BEGIN:VCALENDAR
VERSION:2.0
PRODID:-//empowercdc.org//NONSGML kigkonsult.se iCalcreator 2.30.10//
CALSCALE:GREGORIAN
METHOD:PUBLISH
UID:98363ab3-1e68-4a1a-99d2-03a092d136fd
X-WR-CALDESC:OUTREACH & EDUCATION-\nWSB- CP\n\n“Financial” Fridays\n@ 11:00
 AM
X-WR-RELCALID:21bbb718816913b99848a3ed273905f1
X-WR-TIMEZONE:America/Chicago
BEGIN:VTIMEZONE
TZID:America/Chicago
BEGIN:STANDARD
TZNAME:CST
DTSTART:20241103T020000
TZOFFSETFROM:-0500
TZOFFSETTO:-0600
RDATE:20251102T020000
RDATE:20261101T020000
END:STANDARD
BEGIN:DAYLIGHT
TZNAME:CDT
DTSTART:20250309T020000
TZOFFSETFROM:-0600
TZOFFSETTO:-0500
RDATE:20260308T020000
RDATE:20270314T020000
END:DAYLIGHT
END:VTIMEZONE
BEGIN:VEVENT
UID:c77b1bdf-f865-462e-be75-674c19323091
DTSTAMP:20260423T145726Z
DESCRIPTION:OUTREACH & EDUCATION-\nWSB- CP\n\n“Financial” Fridays\n@ 11:00A
 M
DTSTART;TZID=America/Chicago:20250926T110000
DTEND;TZID=America/Chicago:20250926T120000
LOCATION:1830 Hollyoak Dr\, Houston\, TX 77084 US
SUMMARY:Hollyoak: Outreach & Education
END:VEVENT
END:VCALENDAR
