BEGIN:VCALENDAR
VERSION:2.0
PRODID:-//empowercdc.org//NONSGML kigkonsult.se iCalcreator 2.30.10//
CALSCALE:GREGORIAN
METHOD:PUBLISH
UID:bdbeb91c-61b4-4540-877f-cd9a359f71a3
X-WR-CALDESC:ARTS & CRAFTS-\nEmpower\n\nCoffee/Tea Tumblers\n@2:00PM\n\n*Re
 gistration Required*
X-WR-RELCALID:740e992260e7dfd98af467aafd262f18
X-WR-TIMEZONE:America/Chicago
BEGIN:VTIMEZONE
TZID:America/Chicago
BEGIN:STANDARD
TZNAME:CST
DTSTART:20241103T020000
TZOFFSETFROM:-0500
TZOFFSETTO:-0600
RDATE:20251102T020000
RDATE:20261101T020000
END:STANDARD
BEGIN:DAYLIGHT
TZNAME:CDT
DTSTART:20250309T020000
TZOFFSETFROM:-0600
TZOFFSETTO:-0500
RDATE:20260308T020000
RDATE:20270314T020000
END:DAYLIGHT
END:VTIMEZONE
BEGIN:VEVENT
UID:39c4495f-dc25-41fc-958c-e46546ed65bf
DTSTAMP:20260423T143503Z
DESCRIPTION:ARTS & CRAFTS-\nEmpower\n\nCoffee/Tea Tumblers\n@2:00PM\n\n*Reg
 istration Required*
DTSTART;TZID=America/Chicago:20250925T140000
DTEND;TZID=America/Chicago:20250925T150000
LOCATION:325 Flagship Boulevard\, Montgomery\, TX 77316 US
SUMMARY:The Heritage: Arts & Crafts
END:VEVENT
END:VCALENDAR
