BEGIN:VCALENDAR
VERSION:2.0
PRODID:-//empowercdc.org//NONSGML kigkonsult.se iCalcreator 2.30.10//
CALSCALE:GREGORIAN
METHOD:PUBLISH
UID:f1005ed9-d809-4ddb-a047-8f7e2c9b97cb
X-WR-CALDESC:ARTS & CRAFTS-\nEmpower\n\nCoffee/Tea Tumblers\n@11:00 AM
X-WR-RELCALID:88e6d3cbbcefeca295084d472ed2b4f6
X-WR-TIMEZONE:America/Chicago
BEGIN:VTIMEZONE
TZID:America/Chicago
BEGIN:STANDARD
TZNAME:CST
DTSTART:20241103T020000
TZOFFSETFROM:-0500
TZOFFSETTO:-0600
RDATE:20251102T020000
RDATE:20261101T020000
END:STANDARD
BEGIN:DAYLIGHT
TZNAME:CDT
DTSTART:20250309T020000
TZOFFSETFROM:-0600
TZOFFSETTO:-0500
RDATE:20260308T020000
RDATE:20270314T020000
END:DAYLIGHT
END:VTIMEZONE
BEGIN:VEVENT
UID:3d0e7538-0d84-4281-8b12-e0e5cfcbcad4
DTSTAMP:20260423T145107Z
DESCRIPTION:ARTS & CRAFTS-\nEmpower\n\nCoffee/Tea Tumblers\n@11:00 AM
DTSTART;TZID=America/Chicago:20250925T110000
DTEND;TZID=America/Chicago:20250925T120000
LOCATION:219 Flagship Blvd\, Montgomery\, TX 77316 US
SUMMARY:The Heritage 55+: Arts & Crafts
END:VEVENT
END:VCALENDAR
