BEGIN:VCALENDAR
VERSION:2.0
PRODID:-//empowercdc.org//NONSGML kigkonsult.se iCalcreator 2.30.10//
CALSCALE:GREGORIAN
METHOD:PUBLISH
UID:65f29b00-aa06-4571-a87d-61d536476860
X-WR-CALDESC:HEALTH &\n\nNUTRITION-\nSuvida- CP\n\nBingo Bonanza\n@ 12:00PM
X-WR-RELCALID:222fe5f9e0e8905236911c7842398400
X-WR-TIMEZONE:America/Chicago
BEGIN:VTIMEZONE
TZID:America/Chicago
BEGIN:STANDARD
TZNAME:CST
DTSTART:20241103T020000
TZOFFSETFROM:-0500
TZOFFSETTO:-0600
RDATE:20251102T020000
RDATE:20261101T020000
END:STANDARD
BEGIN:DAYLIGHT
TZNAME:CDT
DTSTART:20250309T020000
TZOFFSETFROM:-0600
TZOFFSETTO:-0500
RDATE:20260308T020000
RDATE:20270314T020000
END:DAYLIGHT
END:VTIMEZONE
BEGIN:VEVENT
UID:0cb1b0cf-b1ce-4952-a841-bebb679efdd3
DTSTAMP:20260423T150110Z
DESCRIPTION:HEALTH &\n\nNUTRITION-\nSuvida- CP\n\nBingo Bonanza\n@ 12:00PM
DTSTART;TZID=America/Chicago:20250925T120000
DTEND;TZID=America/Chicago:20250925T130000
LOCATION:1830 Hollyoak Dr\, Houston\, TX 77084 US
SUMMARY:Hollyoak: Health & Nutrition
END:VEVENT
END:VCALENDAR
