BEGIN:VCALENDAR
VERSION:2.0
PRODID:-//empowercdc.org//NONSGML kigkonsult.se iCalcreator 2.30.10//
CALSCALE:GREGORIAN
METHOD:PUBLISH
UID:eb038fbc-be89-4f06-99a1-ffcee9f92d8e
X-WR-CALDESC:Project Canvas Presents: College & Career Resource Fair for th
 e students of the YET Center.
X-WR-RELCALID:83a490180421fcc4cfb5d69ea53eb787
X-WR-TIMEZONE:America/Chicago
BEGIN:VTIMEZONE
TZID:America/Chicago
BEGIN:STANDARD
TZNAME:CST
DTSTART:20241103T020000
TZOFFSETFROM:-0500
TZOFFSETTO:-0600
RDATE:20251102T020000
RDATE:20261101T020000
END:STANDARD
BEGIN:DAYLIGHT
TZNAME:CDT
DTSTART:20250309T020000
TZOFFSETFROM:-0600
TZOFFSETTO:-0500
RDATE:20260308T020000
RDATE:20270314T020000
END:DAYLIGHT
END:VTIMEZONE
BEGIN:VEVENT
UID:8fc6affb-a0a5-4528-bb74-b3c9de2fd2a5
DTSTAMP:20260423T143421Z
DESCRIPTION:Project Canvas Presents: College & Career Resource Fair for the
  students of the YET Center.
DTSTART;TZID=America/Chicago:20250925T170000
DTEND;TZID=America/Chicago:20250925T191500
LOCATION:4900 Providence St\, Houston\, TX 77020 US
SUMMARY:College & Career Resource Fair
END:VEVENT
END:VCALENDAR
