BEGIN:VCALENDAR
VERSION:2.0
PRODID:-//empowercdc.org//NONSGML kigkonsult.se iCalcreator 2.30.10//
CALSCALE:GREGORIAN
METHOD:PUBLISH
UID:49cf7fd4-8c6a-422e-8e3c-fcf8e8e0b9b4
X-WR-CALDESC:OUTREACH &\n\nEDUCATION-\nWellcare- CP\n\nJeopardy\n@ 11:00 AM
X-WR-RELCALID:f2a49661cb5920f1143b942d3d8975c4
X-WR-TIMEZONE:America/Chicago
BEGIN:VTIMEZONE
TZID:America/Chicago
BEGIN:STANDARD
TZNAME:CST
DTSTART:20241103T020000
TZOFFSETFROM:-0500
TZOFFSETTO:-0600
RDATE:20251102T020000
RDATE:20261101T020000
END:STANDARD
BEGIN:DAYLIGHT
TZNAME:CDT
DTSTART:20250309T020000
TZOFFSETFROM:-0600
TZOFFSETTO:-0500
RDATE:20260308T020000
RDATE:20270314T020000
END:DAYLIGHT
END:VTIMEZONE
BEGIN:VEVENT
UID:d92f5e22-b6a9-4b72-946c-aeda5dc5c9f6
DTSTAMP:20260423T145818Z
DESCRIPTION:OUTREACH &\n\nEDUCATION-\nWellcare- CP\n\nJeopardy\n@ 11:00 AM
DTSTART;TZID=America/Chicago:20250924T110000
DTEND;TZID=America/Chicago:20250924T120000
LOCATION:1830 Hollyoak Dr\, Houston\, TX 77084 US
SUMMARY:Hollyoak: Outreach & Education
END:VEVENT
END:VCALENDAR
