BEGIN:VCALENDAR
VERSION:2.0
PRODID:-//empowercdc.org//NONSGML kigkonsult.se iCalcreator 2.30.10//
CALSCALE:GREGORIAN
METHOD:PUBLISH
UID:63af050b-2556-4309-9d05-1b3217c957a4
X-WR-CALDESC:EXERCISE\nFITNESS BINGO\n@3:30PM\n\n*Resident only event*
X-WR-RELCALID:bdfa660d145314c4e752b031c78bee58
X-WR-TIMEZONE:America/Chicago
BEGIN:VTIMEZONE
TZID:America/Chicago
BEGIN:STANDARD
TZNAME:CST
DTSTART:20241103T020000
TZOFFSETFROM:-0500
TZOFFSETTO:-0600
RDATE:20251102T020000
RDATE:20261101T020000
END:STANDARD
BEGIN:DAYLIGHT
TZNAME:CDT
DTSTART:20250309T020000
TZOFFSETFROM:-0600
TZOFFSETTO:-0500
RDATE:20260308T020000
RDATE:20270314T020000
END:DAYLIGHT
END:VTIMEZONE
BEGIN:VEVENT
UID:fbfecc0a-41b0-4cee-8955-00d916c7d6c0
DTSTAMP:20260423T145356Z
DESCRIPTION:EXERCISE\nFITNESS BINGO\n@3:30PM\n\n*Resident only event*
DTSTART;TZID=America/Chicago:20250923T153000
DTEND;TZID=America/Chicago:20250923T163000
LOCATION:1620 Spencer Hwy\, South Houston\, TX 77587 US
SUMMARY:Windsor Gardens: Exercise
END:VEVENT
END:VCALENDAR
