BEGIN:VCALENDAR
VERSION:2.0
PRODID:-//empowercdc.org//NONSGML kigkonsult.se iCalcreator 2.30.10//
CALSCALE:GREGORIAN
METHOD:PUBLISH
UID:75498c84-b859-413d-90c2-448e1179d841
X-WR-CALDESC:EXERCISE-\nWellcare-CP\n\nBingo & Wellness\n@11:00AM\n\nTxSMP-
  Empower\nScam of the Month\n@12:00PM
X-WR-RELCALID:62dbe5b2b1a2d317d07e8d567fbebd95
X-WR-TIMEZONE:America/Chicago
BEGIN:VTIMEZONE
TZID:America/Chicago
BEGIN:STANDARD
TZNAME:CST
DTSTART:20241103T020000
TZOFFSETFROM:-0500
TZOFFSETTO:-0600
RDATE:20251102T020000
RDATE:20261101T020000
END:STANDARD
BEGIN:DAYLIGHT
TZNAME:CDT
DTSTART:20250309T020000
TZOFFSETFROM:-0600
TZOFFSETTO:-0500
RDATE:20260308T020000
RDATE:20270314T020000
END:DAYLIGHT
END:VTIMEZONE
BEGIN:VEVENT
UID:084fc43e-b088-4eab-a6e4-ecb30d18882d
DTSTAMP:20260423T144333Z
DESCRIPTION:EXERCISE-\nWellcare-CP\n\nBingo & Wellness\n@11:00AM\n\nTxSMP- 
 Empower\nScam of the Month\n@12:00PM
DTSTART;TZID=America/Chicago:20250923T110000
DTEND;TZID=America/Chicago:20250923T130000
LOCATION:1830 Hollyoak Dr\, Houston\, TX 77084 US
SUMMARY:Hollyoak: Exercise\, TX SMP
END:VEVENT
END:VCALENDAR
