BEGIN:VCALENDAR
VERSION:2.0
PRODID:-//empowercdc.org//NONSGML kigkonsult.se iCalcreator 2.30.10//
CALSCALE:GREGORIAN
METHOD:PUBLISH
UID:e781562a-214a-4421-82e1-a0739e719b5d
X-WR-CALDESC:SOCIAL\nGAME DAY\n@3:30PM\n\n*Resident only event*
X-WR-RELCALID:f3a97524006ce15d1acd151e6fed0c17
X-WR-TIMEZONE:America/Chicago
BEGIN:VTIMEZONE
TZID:America/Chicago
BEGIN:STANDARD
TZNAME:CST
DTSTART:20241103T020000
TZOFFSETFROM:-0500
TZOFFSETTO:-0600
RDATE:20251102T020000
RDATE:20261101T020000
END:STANDARD
BEGIN:DAYLIGHT
TZNAME:CDT
DTSTART:20250309T020000
TZOFFSETFROM:-0600
TZOFFSETTO:-0500
RDATE:20260308T020000
RDATE:20270314T020000
END:DAYLIGHT
END:VTIMEZONE
BEGIN:VEVENT
UID:0ad13bbc-76f5-4a75-94fe-fb45869ff119
DTSTAMP:20260423T145540Z
DESCRIPTION:SOCIAL\nGAME DAY\n@3:30PM\n\n*Resident only event*
DTSTART;TZID=America/Chicago:20250922T153000
DTEND;TZID=America/Chicago:20250922T163000
LOCATION:1620 Spencer Hwy\, South Houston\, TX 77587 US
SUMMARY:Windsor Gardens: Social
END:VEVENT
END:VCALENDAR
