BEGIN:VCALENDAR
VERSION:2.0
PRODID:-//empowercdc.org//NONSGML kigkonsult.se iCalcreator 2.30.10//
CALSCALE:GREGORIAN
METHOD:PUBLISH
UID:17dc667d-de9d-4c4b-9e40-62efcdbd85e3
X-WR-CALDESC:SOCIAL\nBirthday Social\n@ 2:00 PM
X-WR-RELCALID:645bb5acf38ce967ee85bfaa28500658
X-WR-TIMEZONE:America/Chicago
BEGIN:VTIMEZONE
TZID:America/Chicago
BEGIN:STANDARD
TZNAME:CST
DTSTART:20241103T020000
TZOFFSETFROM:-0500
TZOFFSETTO:-0600
RDATE:20251102T020000
RDATE:20261101T020000
END:STANDARD
BEGIN:DAYLIGHT
TZNAME:CDT
DTSTART:20250309T020000
TZOFFSETFROM:-0600
TZOFFSETTO:-0500
RDATE:20260308T020000
RDATE:20270314T020000
END:DAYLIGHT
END:VTIMEZONE
BEGIN:VEVENT
UID:ced18cc2-68cf-4901-bf8f-093f748ae13d
DTSTAMP:20260423T150044Z
DESCRIPTION:SOCIAL\nBirthday Social\n@ 2:00 PM
DTSTART;TZID=America/Chicago:20250922T140000
DTEND;TZID=America/Chicago:20250922T150000
LOCATION:325 Flagship Boulevard\, Montgomery\, TX 77316 US
SUMMARY:The Heritage: Birthday Social
END:VEVENT
END:VCALENDAR
