BEGIN:VCALENDAR
VERSION:2.0
PRODID:-//empowercdc.org//NONSGML kigkonsult.se iCalcreator 2.30.10//
CALSCALE:GREGORIAN
METHOD:PUBLISH
UID:2e19a8ab-b678-4fa3-809f-2810ba154065
X-WR-CALDESC:TxSMP- Empower\nScam of the Month\n@ 11:00AM
X-WR-RELCALID:f2816ab3425e8afdea94ea334d3e49d0
X-WR-TIMEZONE:America/Chicago
BEGIN:VTIMEZONE
TZID:America/Chicago
BEGIN:STANDARD
TZNAME:CST
DTSTART:20241103T020000
TZOFFSETFROM:-0500
TZOFFSETTO:-0600
RDATE:20251102T020000
RDATE:20261101T020000
END:STANDARD
BEGIN:DAYLIGHT
TZNAME:CDT
DTSTART:20250309T020000
TZOFFSETFROM:-0600
TZOFFSETTO:-0500
RDATE:20260308T020000
RDATE:20270314T020000
END:DAYLIGHT
END:VTIMEZONE
BEGIN:VEVENT
UID:98c712ab-bbfd-4c6e-bab7-18afa62b24cc
DTSTAMP:20260423T143248Z
DESCRIPTION:TxSMP- Empower\nScam of the Month\n@ 11:00AM
DTSTART;TZID=America/Chicago:20250922T110000
DTEND;TZID=America/Chicago:20250922T120000
LOCATION:219 Flagship Blvd\, Montgomery\, TX 77316 US
SUMMARY:The Heritage 55+: TxSMP
END:VEVENT
END:VCALENDAR
