BEGIN:VCALENDAR
VERSION:2.0
PRODID:-//empowercdc.org//NONSGML kigkonsult.se iCalcreator 2.30.10//
CALSCALE:GREGORIAN
METHOD:PUBLISH
UID:8e09bed5-a417-402a-b437-f2e652ac466b
X-WR-CALDESC:TX SMP\nSCAM OF THE MONTH\n@10AM\n\nEXERCISE\nCHAIR EXERCISE\n
 @10:30AM
X-WR-RELCALID:0c21633a0c9471ce78e5f866aca48484
X-WR-TIMEZONE:America/Chicago
BEGIN:VTIMEZONE
TZID:America/Chicago
BEGIN:STANDARD
TZNAME:CST
DTSTART:20241103T020000
TZOFFSETFROM:-0500
TZOFFSETTO:-0600
RDATE:20251102T020000
RDATE:20261101T020000
END:STANDARD
BEGIN:DAYLIGHT
TZNAME:CDT
DTSTART:20250309T020000
TZOFFSETFROM:-0600
TZOFFSETTO:-0500
RDATE:20260308T020000
RDATE:20270314T020000
END:DAYLIGHT
END:VTIMEZONE
BEGIN:VEVENT
UID:6eb38991-8261-4f9c-a1c0-b5a9c84a2d12
DTSTAMP:20260423T150019Z
DESCRIPTION:TX SMP\nSCAM OF THE MONTH\n@10AM\n\nEXERCISE\nCHAIR EXERCISE\n@
 10:30AM
DTSTART;TZID=America/Chicago:20250919T100000
DTEND;TZID=America/Chicago:20250919T113000
LOCATION:15707 Kuykendahl Ct\, Conroe\, AL 77384 US
SUMMARY:Kuykendalh Court: TX SMP\, Exercise
END:VEVENT
END:VCALENDAR
