BEGIN:VCALENDAR
VERSION:2.0
PRODID:-//empowercdc.org//NONSGML kigkonsult.se iCalcreator 2.30.10//
CALSCALE:GREGORIAN
METHOD:PUBLISH
UID:aead6dcb-c282-490a-b1ae-0a5a962fe28d
X-WR-CALDESC:FOOD PANTRY-\nEmpower\n\nFood Pantry\n@2:00PM\n\nTxSMP- Empowe
 r\nScam of the Month\n@3:00PM
X-WR-RELCALID:556ce614da45b7b74bcaad0c88f87293
X-WR-TIMEZONE:America/Chicago
BEGIN:VTIMEZONE
TZID:America/Chicago
BEGIN:STANDARD
TZNAME:CST
DTSTART:20241103T020000
TZOFFSETFROM:-0500
TZOFFSETTO:-0600
RDATE:20251102T020000
RDATE:20261101T020000
END:STANDARD
BEGIN:DAYLIGHT
TZNAME:CDT
DTSTART:20250309T020000
TZOFFSETFROM:-0600
TZOFFSETTO:-0500
RDATE:20260308T020000
RDATE:20270314T020000
END:DAYLIGHT
END:VTIMEZONE
BEGIN:VEVENT
UID:9c4a391d-43b5-4904-9c22-8659ecb11178
DTSTAMP:20260423T150149Z
DESCRIPTION:FOOD PANTRY-\nEmpower\n\nFood Pantry\n@2:00PM\n\nTxSMP- Empower
 \nScam of the Month\n@3:00PM
DTSTART;TZID=America/Chicago:20250918T140000
DTEND;TZID=America/Chicago:20250918T153000
LOCATION:325 Flagship Boulevard\, Montgomery\, TX 77316 US
SUMMARY:The Heritage: Food Pantry\, TX SMP
END:VEVENT
END:VCALENDAR
