BEGIN:VCALENDAR
VERSION:2.0
PRODID:-//empowercdc.org//NONSGML kigkonsult.se iCalcreator 2.30.10//
CALSCALE:GREGORIAN
METHOD:PUBLISH
UID:95926de9-2072-4aad-a46e-b4a8b65c6327
X-WR-CALDESC:TX SMP\nSCAM OF THE MONTH\n@10AM\n\nEXERCISE\nFITNESS BINGO\n@
 10:30AM\n\n*Resident only event*
X-WR-RELCALID:c7cbe9e61986392348d4759392443cb5
X-WR-TIMEZONE:America/Chicago
BEGIN:VTIMEZONE
TZID:America/Chicago
BEGIN:STANDARD
TZNAME:CST
DTSTART:20241103T020000
TZOFFSETFROM:-0500
TZOFFSETTO:-0600
RDATE:20251102T020000
RDATE:20261101T020000
END:STANDARD
BEGIN:DAYLIGHT
TZNAME:CDT
DTSTART:20250309T020000
TZOFFSETFROM:-0600
TZOFFSETTO:-0500
RDATE:20260308T020000
RDATE:20270314T020000
END:DAYLIGHT
END:VTIMEZONE
BEGIN:VEVENT
UID:0bef484e-19ad-4c07-a7e8-2418701131f7
DTSTAMP:20260423T143226Z
DESCRIPTION:TX SMP\nSCAM OF THE MONTH\n@10AM\n\nEXERCISE\nFITNESS BINGO\n@1
 0:30AM\n\n*Resident only event*
DTSTART;TZID=America/Chicago:20250916T100000
DTEND;TZID=America/Chicago:20250916T113000
LOCATION:1717 FM359\, Richmond\, TX 77406 US
SUMMARY:Jones Creek: TX SMP\, Exercise
END:VEVENT
END:VCALENDAR
