BEGIN:VCALENDAR
VERSION:2.0
PRODID:-//empowercdc.org//NONSGML kigkonsult.se iCalcreator 2.30.10//
CALSCALE:GREGORIAN
METHOD:PUBLISH
UID:2b03ddf2-aca4-4e95-a7c7-804fefd0b0c9
X-WR-CALDESC:CHARACTER BUILDING-\nEmpower\n\nReflection @1:30PM\n\nOUTREACH
  & EDUCATION-\nSuicide Prevention Forum\n\n@2:30PM
X-WR-RELCALID:99aa52e0a4b693145b8a526712eb2bff
X-WR-TIMEZONE:America/Chicago
BEGIN:VTIMEZONE
TZID:America/Chicago
BEGIN:STANDARD
TZNAME:CST
DTSTART:20241103T020000
TZOFFSETFROM:-0500
TZOFFSETTO:-0600
RDATE:20251102T020000
RDATE:20261101T020000
END:STANDARD
BEGIN:DAYLIGHT
TZNAME:CDT
DTSTART:20250309T020000
TZOFFSETFROM:-0600
TZOFFSETTO:-0500
RDATE:20260308T020000
RDATE:20270314T020000
END:DAYLIGHT
END:VTIMEZONE
BEGIN:VEVENT
UID:99626735-dbbf-4d64-b932-4b8905613e89
DTSTAMP:20260423T150234Z
DESCRIPTION:CHARACTER BUILDING-\nEmpower\n\nReflection @1:30PM\n\nOUTREACH 
 & EDUCATION-\nSuicide Prevention Forum\n\n@2:30PM
DTSTART;TZID=America/Chicago:20250915T133000
DTEND;TZID=America/Chicago:20250915T153000
LOCATION:325 Flagship Boulevard\, Montgomery\, TX 77316 US
SUMMARY:The Heritage: Character Building\, Outreach & Education
END:VEVENT
END:VCALENDAR
