BEGIN:VCALENDAR
VERSION:2.0
PRODID:-//empowercdc.org//NONSGML kigkonsult.se iCalcreator 2.30.10//
CALSCALE:GREGORIAN
METHOD:PUBLISH
UID:ea64c3cb-d182-4712-9b1b-dd7e48590324
X-WR-CALDESC:OUTREACH &\nEDUCATION-Empower\nAwareness Forum\n@11:30AM
X-WR-RELCALID:726b10e5b7c4189c7c03674556c9495c
X-WR-TIMEZONE:America/Chicago
BEGIN:VTIMEZONE
TZID:America/Chicago
BEGIN:STANDARD
TZNAME:CST
DTSTART:20241103T020000
TZOFFSETFROM:-0500
TZOFFSETTO:-0600
RDATE:20251102T020000
RDATE:20261101T020000
END:STANDARD
BEGIN:DAYLIGHT
TZNAME:CDT
DTSTART:20250309T020000
TZOFFSETFROM:-0600
TZOFFSETTO:-0500
RDATE:20260308T020000
RDATE:20270314T020000
END:DAYLIGHT
END:VTIMEZONE
BEGIN:VEVENT
UID:f915c4d9-098f-4b4c-bef9-ad0b868df4b3
DTSTAMP:20260423T143725Z
DESCRIPTION:OUTREACH &\nEDUCATION-Empower\nAwareness Forum\n@11:30AM
DTSTART;TZID=America/Chicago:20250915T113000
DTEND;TZID=America/Chicago:20250915T123000
LOCATION:219 Flagship Blvd\, Montgomery\, TX 77316 US
SUMMARY:The Heritage 55+: Outreach & Education
END:VEVENT
END:VCALENDAR
