BEGIN:VCALENDAR
VERSION:2.0
PRODID:-//empowercdc.org//NONSGML kigkonsult.se iCalcreator 2.30.10//
CALSCALE:GREGORIAN
METHOD:PUBLISH
UID:3d263214-b24e-49bb-bd9b-81bc42b29833
X-WR-CALDESC:Expungement & Legal Clinic — Sept 13\, 10:00 am–3:00 pm (YET @
  Finnigan Park\, 4900 Providence St\, Houston\, TX 77020).\n\nFree help wi
 th the expungement/record-sealing process\, paperwork and applications\, p
 lus personalized legal Q&A.
X-WR-RELCALID:6a2aa3eaaa097ab84146093a89a99c06
X-WR-TIMEZONE:America/Chicago
BEGIN:VTIMEZONE
TZID:America/Chicago
BEGIN:STANDARD
TZNAME:CST
DTSTART:20241103T020000
TZOFFSETFROM:-0500
TZOFFSETTO:-0600
RDATE:20251102T020000
RDATE:20261101T020000
END:STANDARD
BEGIN:DAYLIGHT
TZNAME:CDT
DTSTART:20250309T020000
TZOFFSETFROM:-0600
TZOFFSETTO:-0500
RDATE:20260308T020000
RDATE:20270314T020000
END:DAYLIGHT
END:VTIMEZONE
BEGIN:VEVENT
UID:ca57c049-2235-443b-b554-2bd9946b3079
DTSTAMP:20260423T150320Z
DESCRIPTION:Expungement & Legal Clinic — Sept 13\, 10:00 am–3:00 pm (YET @ 
 Finnigan Park\, 4900 Providence St\, Houston\, TX 77020).\n\nFree help wit
 h the expungement/record-sealing process\, paperwork and applications\, pl
 us personalized legal Q&A.
DTSTART;TZID=America/Chicago:20250913T100000
DTEND;TZID=America/Chicago:20250913T150000
LOCATION:4900 Providence St\, Houston\, TX 77020 US
SUMMARY:2025 Expungement & Legal Clinic
END:VEVENT
END:VCALENDAR
