BEGIN:VCALENDAR
VERSION:2.0
PRODID:-//empowercdc.org//NONSGML kigkonsult.se iCalcreator 2.30.10//
CALSCALE:GREGORIAN
METHOD:PUBLISH
UID:ea9c701e-8bd1-4a8d-aead-585f5e8ae2d9
X-WR-CALDESC:ARTS & CRAFTS-\nDoTerra- CP\n\nDoTerra Essentials\n@10:00AM\n
 \nSOCIAL-\nEmpower\n\nResident Brunch\n@ 11:00AM
X-WR-RELCALID:6859b36cd9b24bddd2d24e324dcfe3f7
X-WR-TIMEZONE:America/Chicago
BEGIN:VTIMEZONE
TZID:America/Chicago
BEGIN:STANDARD
TZNAME:CST
DTSTART:20241103T020000
TZOFFSETFROM:-0500
TZOFFSETTO:-0600
RDATE:20251102T020000
RDATE:20261101T020000
END:STANDARD
BEGIN:DAYLIGHT
TZNAME:CDT
DTSTART:20250309T020000
TZOFFSETFROM:-0600
TZOFFSETTO:-0500
RDATE:20260308T020000
RDATE:20270314T020000
END:DAYLIGHT
END:VTIMEZONE
BEGIN:VEVENT
UID:ceca85e3-89a6-4d72-bde0-544e1e78a10a
DTSTAMP:20260423T145942Z
DESCRIPTION:ARTS & CRAFTS-\nDoTerra- CP\n\nDoTerra Essentials\n@10:00AM\n\n
 SOCIAL-\nEmpower\n\nResident Brunch\n@ 11:00AM
DTSTART;TZID=America/Chicago:20250912T100000
DTEND;TZID=America/Chicago:20250912T120000
LOCATION:1830 Hollyoak Dr\, Houston\, TX 77084 US
SUMMARY:Hollyoak: Arts & Crafts\, Social
END:VEVENT
END:VCALENDAR
