BEGIN:VCALENDAR
VERSION:2.0
PRODID:-//empowercdc.org//NONSGML kigkonsult.se iCalcreator 2.30.10//
CALSCALE:GREGORIAN
METHOD:PUBLISH
UID:b223711b-5ca0-42fa-a9a2-d0b5821636c3
X-WR-CALDESC:ARTS & CRAFTS-\nEmpower\n\nFall Frames\n@2:00PM\n\nTxSMP- Empo
 wer\nScam of the Month\n@3:00PM
X-WR-RELCALID:11d2481993c5fdebbb30a411523c2d2d
X-WR-TIMEZONE:America/Chicago
BEGIN:VTIMEZONE
TZID:America/Chicago
BEGIN:STANDARD
TZNAME:CST
DTSTART:20241103T020000
TZOFFSETFROM:-0500
TZOFFSETTO:-0600
RDATE:20251102T020000
RDATE:20261101T020000
END:STANDARD
BEGIN:DAYLIGHT
TZNAME:CDT
DTSTART:20250309T020000
TZOFFSETFROM:-0600
TZOFFSETTO:-0500
RDATE:20260308T020000
END:DAYLIGHT
END:VTIMEZONE
BEGIN:VEVENT
UID:f760332b-5a0e-4b78-bf69-a7e8e3869e45
DTSTAMP:20260423T145948Z
DESCRIPTION:ARTS & CRAFTS-\nEmpower\n\nFall Frames\n@2:00PM\n\nTxSMP- Empow
 er\nScam of the Month\n@3:00PM
DTSTART;TZID=America/Chicago:20250911T140000
DTEND;TZID=America/Chicago:20250911T153000
LOCATION:325 Flagship Boulevard\, Montgomery\, TX 77316 US
SUMMARY:The Heritage: Arts & Crafts\, TX SMP
END:VEVENT
END:VCALENDAR
