BEGIN:VCALENDAR
VERSION:2.0
PRODID:-//empowercdc.org//NONSGML kigkonsult.se iCalcreator 2.30.10//
CALSCALE:GREGORIAN
METHOD:PUBLISH
UID:cb916f64-4bcc-4e70-ac0b-c42432848dfc
X-WR-CALDESC:SOCIAL- Empower\nGrandparent’s Day Social\n@2:00PM
X-WR-RELCALID:390103af7e64423a8dd7ba7b3312e1ff
X-WR-TIMEZONE:America/Chicago
BEGIN:VTIMEZONE
TZID:America/Chicago
BEGIN:STANDARD
TZNAME:CST
DTSTART:20241103T020000
TZOFFSETFROM:-0500
TZOFFSETTO:-0600
RDATE:20251102T020000
RDATE:20261101T020000
END:STANDARD
BEGIN:DAYLIGHT
TZNAME:CDT
DTSTART:20250309T020000
TZOFFSETFROM:-0600
TZOFFSETTO:-0500
RDATE:20260308T020000
END:DAYLIGHT
END:VTIMEZONE
BEGIN:VEVENT
UID:eb71de0d-97f5-46e8-8451-691e1dce039b
DTSTAMP:20260423T145525Z
DESCRIPTION:SOCIAL- Empower\nGrandparent’s Day Social\n@2:00PM
DTSTART;TZID=America/Chicago:20250908T140000
DTEND;TZID=America/Chicago:20250908T153000
LOCATION:325 Flagship Boulevard\, Montgomery\, TX 77316 US
SUMMARY:The Heritage: Social
END:VEVENT
END:VCALENDAR
