BEGIN:VCALENDAR
VERSION:2.0
PRODID:-//empowercdc.org//NONSGML kigkonsult.se iCalcreator 2.30.10//
CALSCALE:GREGORIAN
METHOD:PUBLISH
UID:e3417fbd-6e78-4edb-a20d-9fbbce12abd5
X-WR-CALDESC:SENIOR 101 EMAIL LITERACY\nWORKSHOP\nOrganizing Your Email Inb
 ox\n@10:00AM\n\nEXERCISE\nFITNESS BINGO\n@10:30AM\n\n*Resident only event*
X-WR-RELCALID:6f7ce375454c4385dfe4321dfa495bfa
X-WR-TIMEZONE:America/Chicago
BEGIN:VTIMEZONE
TZID:America/Chicago
BEGIN:STANDARD
TZNAME:CST
DTSTART:20241103T020000
TZOFFSETFROM:-0500
TZOFFSETTO:-0600
RDATE:20251102T020000
RDATE:20261101T020000
END:STANDARD
BEGIN:DAYLIGHT
TZNAME:CDT
DTSTART:20250309T020000
TZOFFSETFROM:-0600
TZOFFSETTO:-0500
RDATE:20260308T020000
END:DAYLIGHT
END:VTIMEZONE
BEGIN:VEVENT
UID:0b3aed6c-c7a5-4968-9cc4-986d108503bf
DTSTAMP:20260423T144633Z
DESCRIPTION:SENIOR 101 EMAIL LITERACY\nWORKSHOP\nOrganizing Your Email Inbo
 x\n@10:00AM\n\nEXERCISE\nFITNESS BINGO\n@10:30AM\n\n*Resident only event*
DTSTART;TZID=America/Chicago:20250908T100000
DTEND;TZID=America/Chicago:20250908T113000
LOCATION:1717 FM359\, Richmond\, TX 77406 US
SUMMARY:Jones Creek: Senior 101\, Exercise
END:VEVENT
END:VCALENDAR
